BEGIN:VCALENDAR
VERSION:2.0
PRODID:-//FOCUS - ECPv6.2.2//NONSGML v1.0//EN
CALSCALE:GREGORIAN
METHOD:PUBLISH
X-ORIGINAL-URL:https://www.focus-info.org
X-WR-CALDESC:Events for FOCUS
REFRESH-INTERVAL;VALUE=DURATION:PT1H
X-Robots-Tag:noindex
X-PUBLISHED-TTL:PT1H
BEGIN:VTIMEZONE
TZID:UTC
BEGIN:STANDARD
TZOFFSETFROM:+0000
TZOFFSETTO:+0000
TZNAME:UTC
DTSTART:20220101T000000
END:STANDARD
END:VTIMEZONE
BEGIN:VEVENT
DTSTART;TZID=UTC:20221105T103000
DTEND;TZID=UTC:20221105T123000
DTSTAMP:20260420T105153
CREATED:20220630T094308Z
LAST-MODIFIED:20221014T111342Z
UID:3517-1667644200-1667651400@www.focus-info.org
SUMMARY:The secret history of street food
DESCRIPTION:What exactly is street food? In this tour\, guide Emma Parker\, founder of Coutours\, will dismiss the myth that street food was created at festivals by tracing its origins right back to Roman times. This walking tour will have a look at how Londoners ate over the years and why we relied on the city’s various street sellers and costermongers to provide us with such delights as hot sheep’s feet and codlings. We will taste delicious examples of street food including pies and oysters and many other delights on sale at our best food markets in London.\nThe tour will take in one of London’s street food markets e.g. Borough Market.\nSpaces are very limited so book asap to avoid disappointment!\n​
URL:https://www.focus-info.org/event/the-secret-history-of-street-food/
LOCATION:Meeting point: Rabot\, 2-4 Bedale St\, London\, SE1 9AL
CATEGORIES:Cultural,Social
ORGANIZER;CN="Maria":MAILTO:office@focus-info.org
END:VEVENT
END:VCALENDAR